BEGIN:VCALENDAR
VERSION:2.0
PRODID:-//DA Devlali - ECPv6.0.12//NONSGML v1.0//EN
CALSCALE:GREGORIAN
METHOD:PUBLISH
X-WR-CALNAME:DA Devlali
X-ORIGINAL-URL:https://devlali.darshanacademy.org
X-WR-CALDESC:Events for DA Devlali
REFRESH-INTERVAL;VALUE=DURATION:PT1H
X-Robots-Tag:noindex
X-PUBLISHED-TTL:PT1H
BEGIN:VTIMEZONE
TZID:America/Los_Angeles
BEGIN:DAYLIGHT
TZOFFSETFROM:-0800
TZOFFSETTO:-0700
TZNAME:PDT
DTSTART:20230312T100000
END:DAYLIGHT
BEGIN:STANDARD
TZOFFSETFROM:-0700
TZOFFSETTO:-0800
TZNAME:PST
DTSTART:20231105T090000
END:STANDARD
BEGIN:DAYLIGHT
TZOFFSETFROM:-0800
TZOFFSETTO:-0700
TZNAME:PDT
DTSTART:20240310T100000
END:DAYLIGHT
BEGIN:STANDARD
TZOFFSETFROM:-0700
TZOFFSETTO:-0800
TZNAME:PST
DTSTART:20241103T090000
END:STANDARD
END:VTIMEZONE
BEGIN:VEVENT
DTSTART;TZID=America/Los_Angeles:20240306T000000
DTEND;TZID=America/Los_Angeles:20240318T000000
DTSTAMP:20260422T025718
CREATED:20230510T035806Z
LAST-MODIFIED:20230510T035806Z
UID:4420-1709683200-1710720000@devlali.darshanacademy.org
SUMMARY:ASSESSMENT - IV (I-V) / TERM - II (VI-VIII)
DESCRIPTION:
URL:https://devlali.darshanacademy.org/event/assessment-iv-i-v-term-ii-vi-viii/
CATEGORIES:EXAMINATION
END:VEVENT
BEGIN:VEVENT
DTSTART;TZID=America/Los_Angeles:20240218T000000
DTEND;TZID=America/Los_Angeles:20240229T000000
DTSTAMP:20260422T025718
CREATED:20230510T035747Z
LAST-MODIFIED:20230510T035747Z
UID:4415-1708214400-1709164800@devlali.darshanacademy.org
SUMMARY:TERM - II (IX)
DESCRIPTION:
URL:https://devlali.darshanacademy.org/event/term-ii-ix/
CATEGORIES:EXAMINATION
END:VEVENT
BEGIN:VEVENT
DTSTART;TZID=America/Los_Angeles:20240201T000000
DTEND;TZID=America/Los_Angeles:20240210T000000
DTSTAMP:20260422T025718
CREATED:20230510T035715Z
LAST-MODIFIED:20230510T035715Z
UID:4402-1706745600-1707523200@devlali.darshanacademy.org
SUMMARY:3rd PRELIM (X)
DESCRIPTION:
URL:https://devlali.darshanacademy.org/event/3rd-prelim-x/
CATEGORIES:EXAMINATION
END:VEVENT
BEGIN:VEVENT
DTSTART;TZID=America/Los_Angeles:20240102T000000
DTEND;TZID=America/Los_Angeles:20240112T000000
DTSTAMP:20260422T025718
CREATED:20230510T035552Z
LAST-MODIFIED:20230510T035552Z
UID:4378-1704153600-1705017600@devlali.darshanacademy.org
SUMMARY:2nd PERLIM (X) / PRACTICE PAPER (IX)
DESCRIPTION:
URL:https://devlali.darshanacademy.org/event/2nd-perlim-x-practice-paper-ix/
CATEGORIES:EXAMINATION
END:VEVENT
BEGIN:VEVENT
DTSTART;TZID=America/Los_Angeles:20231204T000000
DTEND;TZID=America/Los_Angeles:20231213T000000
DTSTAMP:20260422T025718
CREATED:20230510T035525Z
LAST-MODIFIED:20230510T035525Z
UID:4364-1701648000-1702425600@devlali.darshanacademy.org
SUMMARY:1ST PRELIM (X)
DESCRIPTION:
URL:https://devlali.darshanacademy.org/event/1st-prelim-x/
CATEGORIES:EXAMINATION
END:VEVENT
BEGIN:VEVENT
DTSTART;TZID=America/Los_Angeles:20231202T000000
DTEND;TZID=America/Los_Angeles:20231209T000000
DTSTAMP:20260422T025718
CREATED:20230510T035525Z
LAST-MODIFIED:20230510T035525Z
UID:4363-1701475200-1702080000@devlali.darshanacademy.org
SUMMARY:ASSESSMENT- III (I-V) / PERIODIC TEST-II (VI-VIII)
DESCRIPTION:
URL:https://devlali.darshanacademy.org/event/assessment-iii-i-v-periodic-test-ii-vi-viii/
CATEGORIES:EXAMINATION
END:VEVENT
BEGIN:VEVENT
DTSTART;TZID=America/Los_Angeles:20231030T000000
DTEND;TZID=America/Los_Angeles:20231108T000000
DTSTAMP:20260422T025718
CREATED:20230510T035416Z
LAST-MODIFIED:20230510T035416Z
UID:4339-1698624000-1699401600@devlali.darshanacademy.org
SUMMARY:PERIODIC TEST - II (IX-X)
DESCRIPTION:
URL:https://devlali.darshanacademy.org/event/periodic-test-ii-ix-x/
CATEGORIES:EXAMINATION
END:VEVENT
BEGIN:VEVENT
DTSTART;TZID=America/Los_Angeles:20230909T000000
DTEND;TZID=America/Los_Angeles:20230922T000000
DTSTAMP:20260422T025718
CREATED:20230510T035206Z
LAST-MODIFIED:20230510T035206Z
UID:4297-1694217600-1695340800@devlali.darshanacademy.org
SUMMARY:ASSESSMENT - II (I-V) / TERM-I (VI-VIII)
DESCRIPTION:
URL:https://devlali.darshanacademy.org/event/assessment-ii-i-v-term-i-vi-viii/
CATEGORIES:EXAMINATION
END:VEVENT
BEGIN:VEVENT
DTSTART;TZID=America/Los_Angeles:20230909T000000
DTEND;TZID=America/Los_Angeles:20230918T000000
DTSTAMP:20260422T025718
CREATED:20230510T035152Z
LAST-MODIFIED:20230510T035152Z
UID:4296-1694217600-1694995200@devlali.darshanacademy.org
SUMMARY:TERM - I (IX-X)
DESCRIPTION:
URL:https://devlali.darshanacademy.org/event/term-i-ix-x/
CATEGORIES:EXAMINATION
END:VEVENT
BEGIN:VEVENT
DTSTART;TZID=America/Los_Angeles:20230708T000000
DTEND;TZID=America/Los_Angeles:20230715T000000
DTSTAMP:20260422T025718
CREATED:20230510T034954Z
LAST-MODIFIED:20230510T034954Z
UID:4250-1688774400-1689379200@devlali.darshanacademy.org
SUMMARY:ASSESSMENT - I (I-V) / PERIODIC TEST I (VI-VIII)
DESCRIPTION:
URL:https://devlali.darshanacademy.org/event/assessment-i-i-v-periodic-test-i-vi-viii/
CATEGORIES:EXAMINATION
END:VEVENT
BEGIN:VEVENT
DTSTART;TZID=America/Los_Angeles:20230619T000000
DTEND;TZID=America/Los_Angeles:20230630T000000
DTSTAMP:20260422T025718
CREATED:20230510T034907Z
LAST-MODIFIED:20230510T034907Z
UID:4234-1687132800-1688083200@devlali.darshanacademy.org
SUMMARY:PERIODIC TEST - I (IX & X)
DESCRIPTION:
URL:https://devlali.darshanacademy.org/event/periodic-test-i-ix-x/
CATEGORIES:EXAMINATION
END:VEVENT
END:VCALENDAR