BEGIN:VCALENDAR
VERSION:2.0
PRODID:-//DA Devlali - ECPv6.0.12//NONSGML v1.0//EN
CALSCALE:GREGORIAN
METHOD:PUBLISH
X-WR-CALNAME:DA Devlali
X-ORIGINAL-URL:https://devlali.darshanacademy.org
X-WR-CALDESC:Events for DA Devlali
REFRESH-INTERVAL;VALUE=DURATION:PT1H
X-Robots-Tag:noindex
X-PUBLISHED-TTL:PT1H
BEGIN:VTIMEZONE
TZID:America/Los_Angeles
BEGIN:DAYLIGHT
TZOFFSETFROM:-0800
TZOFFSETTO:-0700
TZNAME:PDT
DTSTART:20230312T100000
END:DAYLIGHT
BEGIN:STANDARD
TZOFFSETFROM:-0700
TZOFFSETTO:-0800
TZNAME:PST
DTSTART:20231105T090000
END:STANDARD
END:VTIMEZONE
BEGIN:VEVENT
DTSTART;TZID=America/Los_Angeles:20230729T000000
DTEND;TZID=America/Los_Angeles:20230729T000000
DTSTAMP:20260424T015225
CREATED:20230510T035034Z
LAST-MODIFIED:20230510T035034Z
UID:4266-1690588800-1690588800@devlali.darshanacademy.org
SUMMARY:MUHARRAM
DESCRIPTION:
URL:https://devlali.darshanacademy.org/event/muharram/
CATEGORIES:HOLIDAY
END:VEVENT
BEGIN:VEVENT
DTSTART;TZID=America/Los_Angeles:20230624T000000
DTEND;TZID=America/Los_Angeles:20230624T000000
DTSTAMP:20260424T015225
CREATED:20230510T034917Z
LAST-MODIFIED:20230510T034917Z
UID:4240-1687564800-1687564800@devlali.darshanacademy.org
SUMMARY:FOURTH SATURDAY
DESCRIPTION:
URL:https://devlali.darshanacademy.org/event/fourth-saturday-2/
CATEGORIES:HOLIDAY
END:VEVENT
BEGIN:VEVENT
DTSTART;TZID=America/Los_Angeles:20230422T000000
DTEND;TZID=America/Los_Angeles:20230422T000000
DTSTAMP:20260424T015225
CREATED:20230510T034725Z
LAST-MODIFIED:20230510T034725Z
UID:4208-1682121600-1682121600@devlali.darshanacademy.org
SUMMARY:FOURTH SATURDAY
DESCRIPTION:
URL:https://devlali.darshanacademy.org/event/fourth-saturday/
CATEGORIES:HOLIDAY
END:VEVENT
BEGIN:VEVENT
DTSTART;TZID=America/Los_Angeles:20230414T000000
DTEND;TZID=America/Los_Angeles:20230414T000000
DTSTAMP:20260424T015225
CREATED:20230510T034633Z
LAST-MODIFIED:20230510T034633Z
UID:4202-1681430400-1681430400@devlali.darshanacademy.org
SUMMARY:DR BABASAHEB AMBEDKAR JAYANTI
DESCRIPTION:
URL:https://devlali.darshanacademy.org/event/dr-babasaheb-ambedkar-jayanti/
CATEGORIES:HOLIDAY
END:VEVENT
BEGIN:VEVENT
DTSTART;TZID=America/Los_Angeles:20230407T000000
DTEND;TZID=America/Los_Angeles:20230407T000000
DTSTAMP:20260424T015225
CREATED:20230510T034613Z
LAST-MODIFIED:20230510T034613Z
UID:4196-1680825600-1680825600@devlali.darshanacademy.org
SUMMARY:GOOD FRIDAY
DESCRIPTION:
URL:https://devlali.darshanacademy.org/event/good-friday/
CATEGORIES:HOLIDAY
END:VEVENT
END:VCALENDAR