BEGIN:VCALENDAR
VERSION:2.0
PRODID:-//DA Devlali - ECPv6.0.12//NONSGML v1.0//EN
CALSCALE:GREGORIAN
METHOD:PUBLISH
X-ORIGINAL-URL:https://devlali.darshanacademy.org
X-WR-CALDESC:Events for DA Devlali
REFRESH-INTERVAL;VALUE=DURATION:PT1H
X-Robots-Tag:noindex
X-PUBLISHED-TTL:PT1H
BEGIN:VTIMEZONE
TZID:America/Los_Angeles
BEGIN:DAYLIGHT
TZOFFSETFROM:-0800
TZOFFSETTO:-0700
TZNAME:PDT
DTSTART:20230312T100000
END:DAYLIGHT
BEGIN:STANDARD
TZOFFSETFROM:-0700
TZOFFSETTO:-0800
TZNAME:PST
DTSTART:20231105T090000
END:STANDARD
END:VTIMEZONE
BEGIN:VEVENT
DTSTART;TZID=America/Los_Angeles:20230609T000000
DTEND;TZID=America/Los_Angeles:20230609T000000
DTSTAMP:20260422T163747
CREATED:20230510T034856Z
LAST-MODIFIED:20230510T034856Z
UID:4229-1686268800-1686268800@devlali.darshanacademy.org
SUMMARY:SCHOOL REOPENS FOR STUDENTS
DESCRIPTION:
URL:https://devlali.darshanacademy.org/event/school-reopens-for-students/
CATEGORIES:OTHERS
END:VEVENT
BEGIN:VEVENT
DTSTART;TZID=America/Los_Angeles:20230605T000000
DTEND;TZID=America/Los_Angeles:20230605T000000
DTSTAMP:20260422T163747
CREATED:20230510T034839Z
LAST-MODIFIED:20230510T034839Z
UID:4226-1685923200-1685923200@devlali.darshanacademy.org
SUMMARY:SCHOOL REOPENS FOR TEACHERS
DESCRIPTION:
URL:https://devlali.darshanacademy.org/event/school-reopens-for-teachers/
CATEGORIES:OTHERS
END:VEVENT
END:VCALENDAR