BEGIN:VCALENDAR
VERSION:2.0
PRODID:-//DA Devlali - ECPv6.0.12//NONSGML v1.0//EN
CALSCALE:GREGORIAN
METHOD:PUBLISH
X-WR-CALNAME:DA Devlali
X-ORIGINAL-URL:https://devlali.darshanacademy.org
X-WR-CALDESC:Events for DA Devlali
REFRESH-INTERVAL;VALUE=DURATION:PT1H
X-Robots-Tag:noindex
X-PUBLISHED-TTL:PT1H
BEGIN:VTIMEZONE
TZID:America/Los_Angeles
BEGIN:DAYLIGHT
TZOFFSETFROM:-0800
TZOFFSETTO:-0700
TZNAME:PDT
DTSTART:20230312T100000
END:DAYLIGHT
BEGIN:STANDARD
TZOFFSETFROM:-0700
TZOFFSETTO:-0800
TZNAME:PST
DTSTART:20231105T090000
END:STANDARD
BEGIN:DAYLIGHT
TZOFFSETFROM:-0800
TZOFFSETTO:-0700
TZNAME:PDT
DTSTART:20240310T100000
END:DAYLIGHT
BEGIN:STANDARD
TZOFFSETFROM:-0700
TZOFFSETTO:-0800
TZNAME:PST
DTSTART:20241103T090000
END:STANDARD
END:VTIMEZONE
BEGIN:VEVENT
DTSTART;TZID=America/Los_Angeles:20240326T000000
DTEND;TZID=America/Los_Angeles:20240326T000000
DTSTAMP:20260422T025719
CREATED:20230510T035822Z
LAST-MODIFIED:20230510T035822Z
UID:4422-1711411200-1711411200@devlali.darshanacademy.org
SUMMARY:PTM (CLASS NURSERY TO IX)
DESCRIPTION:
URL:https://devlali.darshanacademy.org/event/ptm-class-nursery-to-ix/
CATEGORIES:PTM
END:VEVENT
BEGIN:VEVENT
DTSTART;TZID=America/Los_Angeles:20231216T000000
DTEND;TZID=America/Los_Angeles:20231216T000000
DTSTAMP:20260422T025719
CREATED:20230510T035534Z
LAST-MODIFIED:20230510T035534Z
UID:4371-1702684800-1702684800@devlali.darshanacademy.org
SUMMARY:PTM (CLASS NURSERY TO X )
DESCRIPTION:
URL:https://devlali.darshanacademy.org/event/ptm-class-nursery-to-x-3/
CATEGORIES:PTM
END:VEVENT
BEGIN:VEVENT
DTSTART;TZID=America/Los_Angeles:20230930T000000
DTEND;TZID=America/Los_Angeles:20230930T000000
DTSTAMP:20260422T025719
CREATED:20230510T035252Z
LAST-MODIFIED:20230510T035252Z
UID:4312-1696032000-1696032000@devlali.darshanacademy.org
SUMMARY:PTM (CLASS NURSERY TO X)
DESCRIPTION:
URL:https://devlali.darshanacademy.org/event/ptm-class-nursery-to-x-2/
CATEGORIES:PTM
END:VEVENT
BEGIN:VEVENT
DTSTART;TZID=America/Los_Angeles:20230722T000000
DTEND;TZID=America/Los_Angeles:20230722T000000
DTSTAMP:20260422T025719
CREATED:20230510T035024Z
LAST-MODIFIED:20230510T035024Z
UID:4260-1689984000-1689984000@devlali.darshanacademy.org
SUMMARY:PTM (CLASS NURSERY TO X)
DESCRIPTION:
URL:https://devlali.darshanacademy.org/event/ptm-class-nursery-to-x/
CATEGORIES:PTM
END:VEVENT
BEGIN:VEVENT
DTSTART;TZID=America/Los_Angeles:20230429T000000
DTEND;TZID=America/Los_Angeles:20230429T000000
DTSTAMP:20260422T025719
CREATED:20230510T034759Z
LAST-MODIFIED:20230510T034759Z
UID:4214-1682726400-1682726400@devlali.darshanacademy.org
SUMMARY:PTM (PRE-PRIMARY TO V)
DESCRIPTION:
URL:https://devlali.darshanacademy.org/event/ptm-pre-primary-to-v/
CATEGORIES:PTM
END:VEVENT
BEGIN:VEVENT
DTSTART;TZID=America/Los_Angeles:20230406T000000
DTEND;TZID=America/Los_Angeles:20230406T000000
DTSTAMP:20260422T025719
CREATED:20230510T034613Z
LAST-MODIFIED:20230510T034613Z
UID:4195-1680739200-1680739200@devlali.darshanacademy.org
SUMMARY:PTM (PRE-PRIMARY)
DESCRIPTION:
URL:https://devlali.darshanacademy.org/event/ptm-pre-primary/
CATEGORIES:PTM
END:VEVENT
END:VCALENDAR