BEGIN:VCALENDAR
VERSION:2.0
PRODID:-//DA Devlali - ECPv6.0.12//NONSGML v1.0//EN
CALSCALE:GREGORIAN
METHOD:PUBLISH
X-WR-CALNAME:DA Devlali
X-ORIGINAL-URL:https://devlali.darshanacademy.org
X-WR-CALDESC:Events for DA Devlali
REFRESH-INTERVAL;VALUE=DURATION:PT1H
X-Robots-Tag:noindex
X-PUBLISHED-TTL:PT1H
BEGIN:VTIMEZONE
TZID:America/Los_Angeles
BEGIN:DAYLIGHT
TZOFFSETFROM:-0800
TZOFFSETTO:-0700
TZNAME:PDT
DTSTART:20240310T100000
END:DAYLIGHT
BEGIN:STANDARD
TZOFFSETFROM:-0700
TZOFFSETTO:-0800
TZNAME:PST
DTSTART:20241103T090000
END:STANDARD
END:VTIMEZONE
BEGIN:VEVENT
DTSTART;TZID=America/Los_Angeles:20240210T000000
DTEND;TZID=America/Los_Angeles:20240210T000000
DTSTAMP:20260422T064608
CREATED:20230510T035731Z
LAST-MODIFIED:20230510T035731Z
UID:4410-1707523200-1707523200@devlali.darshanacademy.org
SUMMARY:CLUB ACTIVITY
DESCRIPTION:
URL:https://devlali.darshanacademy.org/event/club-activity-10/
CATEGORIES:EVENT
END:VEVENT
BEGIN:VEVENT
DTSTART;TZID=America/Los_Angeles:20240209T000000
DTEND;TZID=America/Los_Angeles:20240209T000000
DTSTAMP:20260422T064608
CREATED:20230510T035731Z
LAST-MODIFIED:20230510T035731Z
UID:4408-1707436800-1707436800@devlali.darshanacademy.org
SUMMARY:SPROUTS DAY ACTIVITY (PRE-PRIMARY)
DESCRIPTION:
URL:https://devlali.darshanacademy.org/event/sprouts-day-activity-pre-primary/
CATEGORIES:EVENT
END:VEVENT
BEGIN:VEVENT
DTSTART;TZID=America/Los_Angeles:20240209T000000
DTEND;TZID=America/Los_Angeles:20240209T000000
DTSTAMP:20260422T064608
CREATED:20230510T035731Z
LAST-MODIFIED:20230510T035731Z
UID:4409-1707436800-1707436800@devlali.darshanacademy.org
SUMMARY:INTERNAL WORKSHOP ON SPIRITUAL CURRICULUM
DESCRIPTION:
URL:https://devlali.darshanacademy.org/event/internal-workshop-on-spiritual-curriculum-2/
CATEGORIES:PROFESSIONAL DEVELOPMENT PROGRAMME
END:VEVENT
BEGIN:VEVENT
DTSTART;TZID=America/Los_Angeles:20240207T000000
DTEND;TZID=America/Los_Angeles:20240207T000000
DTSTAMP:20260422T064608
CREATED:20230510T035730Z
LAST-MODIFIED:20230510T035730Z
UID:4407-1707264000-1707264000@devlali.darshanacademy.org
SUMMARY:FUN GAMES ACTIVITY (PRE-PRIMARY)
DESCRIPTION:
URL:https://devlali.darshanacademy.org/event/fun-games-activity-pre-primary/
CATEGORIES:EVENT
END:VEVENT
BEGIN:VEVENT
DTSTART;TZID=America/Los_Angeles:20240206T000000
DTEND;TZID=America/Los_Angeles:20240206T000000
DTSTAMP:20260422T064608
CREATED:20230510T035715Z
LAST-MODIFIED:20230510T035715Z
UID:4406-1707177600-1707177600@devlali.darshanacademy.org
SUMMARY:SANT KIRPAL SINGHJI MAHARAJ BIRTHDAY
DESCRIPTION:
URL:https://devlali.darshanacademy.org/event/sant-kirpal-singhji-maharaj-birthday/
CATEGORIES:HOLIDAY
END:VEVENT
BEGIN:VEVENT
DTSTART;TZID=America/Los_Angeles:20240205T000000
DTEND;TZID=America/Los_Angeles:20240205T000000
DTSTAMP:20260422T064608
CREATED:20230510T035715Z
LAST-MODIFIED:20230510T035715Z
UID:4405-1707091200-1707091200@devlali.darshanacademy.org
SUMMARY:AUTOBIOGRAPHY WRITING COMPETITION (CLASS III TO VIII)
DESCRIPTION:
URL:https://devlali.darshanacademy.org/event/autobiography-writing-competition-class-iii-to-viii/
CATEGORIES:EVENT
END:VEVENT
BEGIN:VEVENT
DTSTART;TZID=America/Los_Angeles:20240203T000000
DTEND;TZID=America/Los_Angeles:20240203T000000
DTSTAMP:20260422T064608
CREATED:20230510T035715Z
LAST-MODIFIED:20230510T035715Z
UID:4404-1706918400-1706918400@devlali.darshanacademy.org
SUMMARY:CLUB ACTIVITY
DESCRIPTION:
URL:https://devlali.darshanacademy.org/event/club-activity-9/
CATEGORIES:EVENT
END:VEVENT
BEGIN:VEVENT
DTSTART;TZID=America/Los_Angeles:20240202T000000
DTEND;TZID=America/Los_Angeles:20240202T000000
DTSTAMP:20260422T064608
CREATED:20230510T035715Z
LAST-MODIFIED:20230510T035715Z
UID:4403-1706832000-1706832000@devlali.darshanacademy.org
SUMMARY:RED DAY CELEBRATION (PRE-PRIMARY)
DESCRIPTION:
URL:https://devlali.darshanacademy.org/event/red-day-celebration-pre-primary/
CATEGORIES:EVENT
END:VEVENT
BEGIN:VEVENT
DTSTART;TZID=America/Los_Angeles:20240201T000000
DTEND;TZID=America/Los_Angeles:20240210T000000
DTSTAMP:20260422T064608
CREATED:20230510T035715Z
LAST-MODIFIED:20230510T035715Z
UID:4402-1706745600-1707523200@devlali.darshanacademy.org
SUMMARY:3rd PRELIM (X)
DESCRIPTION:
URL:https://devlali.darshanacademy.org/event/3rd-prelim-x/
CATEGORIES:EXAMINATION
END:VEVENT
BEGIN:VEVENT
DTSTART;TZID=America/Los_Angeles:20240201T000000
DTEND;TZID=America/Los_Angeles:20240205T000000
DTSTAMP:20260422T064608
CREATED:20230510T035659Z
LAST-MODIFIED:20230510T035659Z
UID:4401-1706745600-1707091200@devlali.darshanacademy.org
SUMMARY:KIRPAL WEEK OF LOVING KINDNESS
DESCRIPTION:
URL:https://devlali.darshanacademy.org/event/kirpal-week-of-loving-kindness/
CATEGORIES:EVENT
END:VEVENT
BEGIN:VEVENT
DTSTART;TZID=America/Los_Angeles:20240131T000000
DTEND;TZID=America/Los_Angeles:20240131T000000
DTSTAMP:20260422T064608
CREATED:20230510T035658Z
LAST-MODIFIED:20230510T035658Z
UID:4400-1706659200-1706659200@devlali.darshanacademy.org
SUMMARY:SOLO DANCE COMPETITION (CLASS VI TO IX)
DESCRIPTION:
URL:https://devlali.darshanacademy.org/event/solo-dance-competition-class-vi-to-ix/
CATEGORIES:EVENT
END:VEVENT
BEGIN:VEVENT
DTSTART;TZID=America/Los_Angeles:20240129T000000
DTEND;TZID=America/Los_Angeles:20240129T000000
DTSTAMP:20260422T064608
CREATED:20230510T035658Z
LAST-MODIFIED:20230510T035658Z
UID:4399-1706486400-1706486400@devlali.darshanacademy.org
SUMMARY:INTERHOUSE KABADDI COMPETITION (CLASS VI TO IX)
DESCRIPTION:
URL:https://devlali.darshanacademy.org/event/interhouse-kabaddi-competition-class-vi-to-ix/
CATEGORIES:EVENT
END:VEVENT
BEGIN:VEVENT
DTSTART;TZID=America/Los_Angeles:20240127T000000
DTEND;TZID=America/Los_Angeles:20240127T000000
DTSTAMP:20260422T064608
CREATED:20230510T035658Z
LAST-MODIFIED:20230510T035658Z
UID:4398-1706313600-1706313600@devlali.darshanacademy.org
SUMMARY:FOURTH SATURDAY
DESCRIPTION:
URL:https://devlali.darshanacademy.org/event/fourth-saturday-7/
CATEGORIES:HOLIDAY
END:VEVENT
BEGIN:VEVENT
DTSTART;TZID=America/Los_Angeles:20240126T000000
DTEND;TZID=America/Los_Angeles:20240126T000000
DTSTAMP:20260422T064608
CREATED:20230510T035658Z
LAST-MODIFIED:20230510T035658Z
UID:4397-1706227200-1706227200@devlali.darshanacademy.org
SUMMARY:REPUBLIC DAY
DESCRIPTION:
URL:https://devlali.darshanacademy.org/event/republic-day/
CATEGORIES:HOLIDAY
END:VEVENT
BEGIN:VEVENT
DTSTART;TZID=America/Los_Angeles:20240125T000000
DTEND;TZID=America/Los_Angeles:20240125T000000
DTSTAMP:20260422T064608
CREATED:20230510T035633Z
LAST-MODIFIED:20230510T035633Z
UID:4396-1706140800-1706140800@devlali.darshanacademy.org
SUMMARY:COLLAGE MAKING ACTIVITY (PRE-PRIMARY)
DESCRIPTION:
URL:https://devlali.darshanacademy.org/event/collage-making-activity-pre-primary/
CATEGORIES:EVENT
END:VEVENT
BEGIN:VEVENT
DTSTART;TZID=America/Los_Angeles:20240123T000000
DTEND;TZID=America/Los_Angeles:20240123T000000
DTSTAMP:20260422T064608
CREATED:20230510T035633Z
LAST-MODIFIED:20230510T035633Z
UID:4395-1705968000-1705968000@devlali.darshanacademy.org
SUMMARY:ADVERTISING MAKING COMPETITION (CLASS III TO X)
DESCRIPTION:
URL:https://devlali.darshanacademy.org/event/advertising-making-competition-class-iii-to-x/
CATEGORIES:EVENT
END:VEVENT
BEGIN:VEVENT
DTSTART;TZID=America/Los_Angeles:20240122T000000
DTEND;TZID=America/Los_Angeles:20240122T000000
DTSTAMP:20260422T064608
CREATED:20230510T035633Z
LAST-MODIFIED:20230510T035633Z
UID:4394-1705881600-1705881600@devlali.darshanacademy.org
SUMMARY:HANDMADE CRAFT USING TRICOLOUR ACTIVITY (CLASS NURSERY TO VIII)
DESCRIPTION:
URL:https://devlali.darshanacademy.org/event/handmade-craft-using-tricolour-activity-class-nursery-to-viii/
CATEGORIES:EVENT
END:VEVENT
BEGIN:VEVENT
DTSTART;TZID=America/Los_Angeles:20240120T000000
DTEND;TZID=America/Los_Angeles:20240120T000000
DTSTAMP:20260422T064608
CREATED:20230510T035633Z
LAST-MODIFIED:20230510T035633Z
UID:4393-1705708800-1705708800@devlali.darshanacademy.org
SUMMARY:CLUB ACTIVITY
DESCRIPTION:
URL:https://devlali.darshanacademy.org/event/club-activity-8/
CATEGORIES:EVENT
END:VEVENT
BEGIN:VEVENT
DTSTART;TZID=America/Los_Angeles:20240119T000000
DTEND;TZID=America/Los_Angeles:20240119T000000
DTSTAMP:20260422T064608
CREATED:20230510T035633Z
LAST-MODIFIED:20230510T035633Z
UID:4392-1705622400-1705622400@devlali.darshanacademy.org
SUMMARY:PURPLE DAY CELEBRATION (PRE-PRIMARY)
DESCRIPTION:
URL:https://devlali.darshanacademy.org/event/purple-day-celebration-pre-primary/
CATEGORIES:EVENT
END:VEVENT
BEGIN:VEVENT
DTSTART;TZID=America/Los_Angeles:20240117T000000
DTEND;TZID=America/Los_Angeles:20240117T000000
DTSTAMP:20260422T064608
CREATED:20230510T035617Z
LAST-MODIFIED:20230510T035617Z
UID:4391-1705449600-1705449600@devlali.darshanacademy.org
SUMMARY:MEASUREMENT DAY ACTIVITY (CLASS III TO VIII)
DESCRIPTION:
URL:https://devlali.darshanacademy.org/event/measurement-day-activity-class-iii-to-viii/
CATEGORIES:EVENT
END:VEVENT
BEGIN:VEVENT
DTSTART;TZID=America/Los_Angeles:20240116T000000
DTEND;TZID=America/Los_Angeles:20240116T000000
DTSTAMP:20260422T064608
CREATED:20230510T035617Z
LAST-MODIFIED:20230510T035617Z
UID:4390-1705363200-1705363200@devlali.darshanacademy.org
SUMMARY:TALENT SHOW (PRE-PRIMARY)
DESCRIPTION:
URL:https://devlali.darshanacademy.org/event/talent-show-pre-primary/
CATEGORIES:EVENT
END:VEVENT
BEGIN:VEVENT
DTSTART;TZID=America/Los_Angeles:20240115T000000
DTEND;TZID=America/Los_Angeles:20240115T000000
DTSTAMP:20260422T064608
CREATED:20230510T035617Z
LAST-MODIFIED:20230510T035617Z
UID:4389-1705276800-1705276800@devlali.darshanacademy.org
SUMMARY:INTERHOUSE SKATING COMPETITION (CLASS I TO X)
DESCRIPTION:
URL:https://devlali.darshanacademy.org/event/interhouse-skating-competition-class-i-to-x/
CATEGORIES:EVENT
END:VEVENT
BEGIN:VEVENT
DTSTART;TZID=America/Los_Angeles:20240113T000000
DTEND;TZID=America/Los_Angeles:20240113T000000
DTSTAMP:20260422T064608
CREATED:20230510T035617Z
LAST-MODIFIED:20230510T035617Z
UID:4388-1705104000-1705104000@devlali.darshanacademy.org
SUMMARY:CLUB ACTIVITY
DESCRIPTION:
URL:https://devlali.darshanacademy.org/event/club-activity-7/
CATEGORIES:EVENT
END:VEVENT
BEGIN:VEVENT
DTSTART;TZID=America/Los_Angeles:20240112T000000
DTEND;TZID=America/Los_Angeles:20240112T000000
DTSTAMP:20260422T064608
CREATED:20230510T035616Z
LAST-MODIFIED:20230510T035616Z
UID:4387-1705017600-1705017600@devlali.darshanacademy.org
SUMMARY:INTERNAL WORKSHOP ON SPIRITUAL CURRICULUM
DESCRIPTION:
URL:https://devlali.darshanacademy.org/event/internal-workshop-on-spiritual-curriculum/
CATEGORIES:PROFESSIONAL DEVELOPMENT PROGRAMME
END:VEVENT
BEGIN:VEVENT
DTSTART;TZID=America/Los_Angeles:20240112T000000
DTEND;TZID=America/Los_Angeles:20240112T000000
DTSTAMP:20260422T064608
CREATED:20230510T035603Z
LAST-MODIFIED:20230510T035603Z
UID:4386-1705017600-1705017600@devlali.darshanacademy.org
SUMMARY:KITE MAKING ACTIVITY (PRE-PRIMARY)
DESCRIPTION:
URL:https://devlali.darshanacademy.org/event/kite-making-activity-pre-primary/
CATEGORIES:EVENT
END:VEVENT
BEGIN:VEVENT
DTSTART;TZID=America/Los_Angeles:20240110T000000
DTEND;TZID=America/Los_Angeles:20240110T000000
DTSTAMP:20260422T064608
CREATED:20230510T035603Z
LAST-MODIFIED:20230510T035603Z
UID:4385-1704844800-1704844800@devlali.darshanacademy.org
SUMMARY:SOLO SINGING COMPETITION (CLASS III TO X)
DESCRIPTION:
URL:https://devlali.darshanacademy.org/event/solo-singing-competition-class-iii-to-x/
CATEGORIES:EVENT
END:VEVENT
BEGIN:VEVENT
DTSTART;TZID=America/Los_Angeles:20240108T000000
DTEND;TZID=America/Los_Angeles:20240108T000000
DTSTAMP:20260422T064608
CREATED:20230510T035602Z
LAST-MODIFIED:20230510T035602Z
UID:4384-1704672000-1704672000@devlali.darshanacademy.org
SUMMARY:SOLO DANCE COMPETITION (CLASS NURSERY TO V)
DESCRIPTION:
URL:https://devlali.darshanacademy.org/event/solo-dance-competition-class-nursery-to-v/
CATEGORIES:EVENT
END:VEVENT
BEGIN:VEVENT
DTSTART;TZID=America/Los_Angeles:20240106T000000
DTEND;TZID=America/Los_Angeles:20240106T000000
DTSTAMP:20260422T064608
CREATED:20230510T035602Z
LAST-MODIFIED:20230510T035602Z
UID:4383-1704499200-1704499200@devlali.darshanacademy.org
SUMMARY:INTERHOUSE TUG OF WAR COMPETITION (CLASS III TO X) /CLUB ACTIVITY
DESCRIPTION:
URL:https://devlali.darshanacademy.org/event/interhouse-tug-of-war-competition-class-iii-to-x-club-activity/
CATEGORIES:EVENT
END:VEVENT
BEGIN:VEVENT
DTSTART;TZID=America/Los_Angeles:20240105T000000
DTEND;TZID=America/Los_Angeles:20240105T000000
DTSTAMP:20260422T064608
CREATED:20230510T035602Z
LAST-MODIFIED:20230510T035602Z
UID:4382-1704412800-1704412800@devlali.darshanacademy.org
SUMMARY:NATIONAL WORKSHOP ON SPIRITUAL CURRICULUM TEACHING TIPS
DESCRIPTION:
URL:https://devlali.darshanacademy.org/event/national-workshop-on-spiritual-curriculum-teaching-tips-2/
CATEGORIES:PROFESSIONAL DEVELOPMENT PROGRAMME
END:VEVENT
BEGIN:VEVENT
DTSTART;TZID=America/Los_Angeles:20240105T000000
DTEND;TZID=America/Los_Angeles:20240105T000000
DTSTAMP:20260422T064608
CREATED:20230510T035553Z
LAST-MODIFIED:20230510T035553Z
UID:4381-1704412800-1704412800@devlali.darshanacademy.org
SUMMARY:SOLO SINGING COMPETITION (CLASS NURSERY TO II)
DESCRIPTION:
URL:https://devlali.darshanacademy.org/event/solo-singing-competition-class-nursery-to-ii/
CATEGORIES:EVENT
END:VEVENT
END:VCALENDAR