BEGIN:VCALENDAR
VERSION:2.0
PRODID:-//DA Devlali - ECPv6.0.12//NONSGML v1.0//EN
CALSCALE:GREGORIAN
METHOD:PUBLISH
X-WR-CALNAME:DA Devlali
X-ORIGINAL-URL:https://devlali.darshanacademy.org
X-WR-CALDESC:Events for DA Devlali
REFRESH-INTERVAL;VALUE=DURATION:PT1H
X-Robots-Tag:noindex
X-PUBLISHED-TTL:PT1H
BEGIN:VTIMEZONE
TZID:America/Los_Angeles
BEGIN:DAYLIGHT
TZOFFSETFROM:-0800
TZOFFSETTO:-0700
TZNAME:PDT
DTSTART:20230312T100000
END:DAYLIGHT
BEGIN:STANDARD
TZOFFSETFROM:-0700
TZOFFSETTO:-0800
TZNAME:PST
DTSTART:20231105T090000
END:STANDARD
BEGIN:DAYLIGHT
TZOFFSETFROM:-0800
TZOFFSETTO:-0700
TZNAME:PDT
DTSTART:20240310T100000
END:DAYLIGHT
BEGIN:STANDARD
TZOFFSETFROM:-0700
TZOFFSETTO:-0800
TZNAME:PST
DTSTART:20241103T090000
END:STANDARD
END:VTIMEZONE
BEGIN:VEVENT
DTSTART;TZID=America/Los_Angeles:20240112T000000
DTEND;TZID=America/Los_Angeles:20240112T000000
DTSTAMP:20260422T100147
CREATED:20230510T035603Z
LAST-MODIFIED:20230510T035603Z
UID:4386-1705017600-1705017600@devlali.darshanacademy.org
SUMMARY:KITE MAKING ACTIVITY (PRE-PRIMARY)
DESCRIPTION:
URL:https://devlali.darshanacademy.org/event/kite-making-activity-pre-primary/
CATEGORIES:EVENT
END:VEVENT
BEGIN:VEVENT
DTSTART;TZID=America/Los_Angeles:20240110T000000
DTEND;TZID=America/Los_Angeles:20240110T000000
DTSTAMP:20260422T100147
CREATED:20230510T035603Z
LAST-MODIFIED:20230510T035603Z
UID:4385-1704844800-1704844800@devlali.darshanacademy.org
SUMMARY:SOLO SINGING COMPETITION (CLASS III TO X)
DESCRIPTION:
URL:https://devlali.darshanacademy.org/event/solo-singing-competition-class-iii-to-x/
CATEGORIES:EVENT
END:VEVENT
BEGIN:VEVENT
DTSTART;TZID=America/Los_Angeles:20240108T000000
DTEND;TZID=America/Los_Angeles:20240108T000000
DTSTAMP:20260422T100147
CREATED:20230510T035602Z
LAST-MODIFIED:20230510T035602Z
UID:4384-1704672000-1704672000@devlali.darshanacademy.org
SUMMARY:SOLO DANCE COMPETITION (CLASS NURSERY TO V)
DESCRIPTION:
URL:https://devlali.darshanacademy.org/event/solo-dance-competition-class-nursery-to-v/
CATEGORIES:EVENT
END:VEVENT
BEGIN:VEVENT
DTSTART;TZID=America/Los_Angeles:20240106T000000
DTEND;TZID=America/Los_Angeles:20240106T000000
DTSTAMP:20260422T100147
CREATED:20230510T035602Z
LAST-MODIFIED:20230510T035602Z
UID:4383-1704499200-1704499200@devlali.darshanacademy.org
SUMMARY:INTERHOUSE TUG OF WAR COMPETITION (CLASS III TO X) /CLUB ACTIVITY
DESCRIPTION:
URL:https://devlali.darshanacademy.org/event/interhouse-tug-of-war-competition-class-iii-to-x-club-activity/
CATEGORIES:EVENT
END:VEVENT
BEGIN:VEVENT
DTSTART;TZID=America/Los_Angeles:20240105T000000
DTEND;TZID=America/Los_Angeles:20240105T000000
DTSTAMP:20260422T100147
CREATED:20230510T035602Z
LAST-MODIFIED:20230510T035602Z
UID:4382-1704412800-1704412800@devlali.darshanacademy.org
SUMMARY:NATIONAL WORKSHOP ON SPIRITUAL CURRICULUM TEACHING TIPS
DESCRIPTION:
URL:https://devlali.darshanacademy.org/event/national-workshop-on-spiritual-curriculum-teaching-tips-2/
CATEGORIES:PROFESSIONAL DEVELOPMENT PROGRAMME
END:VEVENT
BEGIN:VEVENT
DTSTART;TZID=America/Los_Angeles:20240105T000000
DTEND;TZID=America/Los_Angeles:20240105T000000
DTSTAMP:20260422T100147
CREATED:20230510T035553Z
LAST-MODIFIED:20230510T035553Z
UID:4381-1704412800-1704412800@devlali.darshanacademy.org
SUMMARY:SOLO SINGING COMPETITION (CLASS NURSERY TO II)
DESCRIPTION:
URL:https://devlali.darshanacademy.org/event/solo-singing-competition-class-nursery-to-ii/
CATEGORIES:EVENT
END:VEVENT
BEGIN:VEVENT
DTSTART;TZID=America/Los_Angeles:20240104T000000
DTEND;TZID=America/Los_Angeles:20240104T000000
DTSTAMP:20260422T100147
CREATED:20230510T035552Z
LAST-MODIFIED:20230510T035552Z
UID:4380-1704326400-1704326400@devlali.darshanacademy.org
SUMMARY:RACES COMPETITION (PRE-PRIMARY)
DESCRIPTION:
URL:https://devlali.darshanacademy.org/event/races-competition-pre-primary/
CATEGORIES:EVENT
END:VEVENT
BEGIN:VEVENT
DTSTART;TZID=America/Los_Angeles:20240102T000000
DTEND;TZID=America/Los_Angeles:20240112T000000
DTSTAMP:20260422T100147
CREATED:20230510T035552Z
LAST-MODIFIED:20230510T035552Z
UID:4378-1704153600-1705017600@devlali.darshanacademy.org
SUMMARY:2nd PERLIM (X) / PRACTICE PAPER (IX)
DESCRIPTION:
URL:https://devlali.darshanacademy.org/event/2nd-perlim-x-practice-paper-ix/
CATEGORIES:EXAMINATION
END:VEVENT
BEGIN:VEVENT
DTSTART;TZID=America/Los_Angeles:20240102T000000
DTEND;TZID=America/Los_Angeles:20240102T000000
DTSTAMP:20260422T100147
CREATED:20230510T035552Z
LAST-MODIFIED:20230510T035552Z
UID:4379-1704153600-1704153600@devlali.darshanacademy.org
SUMMARY:SCHOOL REOPEN FOR STUDENTS
DESCRIPTION:
URL:https://devlali.darshanacademy.org/event/school-reopen-for-students/
CATEGORIES:EVENT
END:VEVENT
BEGIN:VEVENT
DTSTART;TZID=America/Los_Angeles:20240101T000000
DTEND;TZID=America/Los_Angeles:20240101T000000
DTSTAMP:20260422T100147
CREATED:20230510T035552Z
LAST-MODIFIED:20230510T035552Z
UID:4377-1704067200-1704067200@devlali.darshanacademy.org
SUMMARY:INTERNAL WORKSHOP ON DEMONSTRATION LESSON / INTERNAL WORKSHOP ON METHODOLOGY OF TEACHING DIFFERENT SUBJECTS
DESCRIPTION:
URL:https://devlali.darshanacademy.org/event/internal-workshop-on-demonstration-lesson-internal-workshop-on-methodology-of-teaching-different-subjects-3/
CATEGORIES:PROFESSIONAL DEVELOPMENT PROGRAMME
END:VEVENT
BEGIN:VEVENT
DTSTART;TZID=America/Los_Angeles:20231228T000000
DTEND;TZID=America/Los_Angeles:20231230T000000
DTSTAMP:20260422T100147
CREATED:20230510T035543Z
LAST-MODIFIED:20230510T035543Z
UID:4376-1703721600-1703894400@devlali.darshanacademy.org
SUMMARY:WINTER BREAK FOR TEACHERS
DESCRIPTION:
URL:https://devlali.darshanacademy.org/event/winter-break-for-teachers/
CATEGORIES:HOLIDAY
END:VEVENT
BEGIN:VEVENT
DTSTART;TZID=America/Los_Angeles:20231226T000000
DTEND;TZID=America/Los_Angeles:20240101T000000
DTSTAMP:20260422T100147
CREATED:20230510T035543Z
LAST-MODIFIED:20230510T035543Z
UID:4375-1703548800-1704067200@devlali.darshanacademy.org
SUMMARY:WINTER BREAK FOR STUDENTS
DESCRIPTION:
URL:https://devlali.darshanacademy.org/event/winter-break-for-students/
CATEGORIES:HOLIDAY
END:VEVENT
BEGIN:VEVENT
DTSTART;TZID=America/Los_Angeles:20231225T000000
DTEND;TZID=America/Los_Angeles:20231225T000000
DTSTAMP:20260422T100147
CREATED:20230510T035542Z
LAST-MODIFIED:20230510T035542Z
UID:4374-1703462400-1703462400@devlali.darshanacademy.org
SUMMARY:CHRISTMAS DAY
DESCRIPTION:
URL:https://devlali.darshanacademy.org/event/christmas-day/
CATEGORIES:HOLIDAY
END:VEVENT
BEGIN:VEVENT
DTSTART;TZID=America/Los_Angeles:20231223T000000
DTEND;TZID=America/Los_Angeles:20231223T000000
DTSTAMP:20260422T100147
CREATED:20230510T035542Z
LAST-MODIFIED:20230510T035542Z
UID:4373-1703289600-1703289600@devlali.darshanacademy.org
SUMMARY:ANNUAL SPORTS DAY
DESCRIPTION:
URL:https://devlali.darshanacademy.org/event/annual-sports-day/
CATEGORIES:EVENT
END:VEVENT
BEGIN:VEVENT
DTSTART;TZID=America/Los_Angeles:20231218T000000
DTEND;TZID=America/Los_Angeles:20231218T000000
DTSTAMP:20260422T100147
CREATED:20230510T035542Z
LAST-MODIFIED:20230510T035542Z
UID:4372-1702857600-1702857600@devlali.darshanacademy.org
SUMMARY:CHRISTMAS CELEBRATION (CLASS NURSERY TO X)
DESCRIPTION:
URL:https://devlali.darshanacademy.org/event/christmas-celebration-class-nursery-to-x/
CATEGORIES:EVENT
END:VEVENT
BEGIN:VEVENT
DTSTART;TZID=America/Los_Angeles:20231216T000000
DTEND;TZID=America/Los_Angeles:20231216T000000
DTSTAMP:20260422T100147
CREATED:20230510T035534Z
LAST-MODIFIED:20230510T035534Z
UID:4370-1702684800-1702684800@devlali.darshanacademy.org
SUMMARY:INTERNAL SPIRITUAL TALK FOR PARENTS
DESCRIPTION:
URL:https://devlali.darshanacademy.org/event/internal-spiritual-talk-for-parents/
CATEGORIES:PROFESSIONAL DEVELOPMENT PROGRAMME
END:VEVENT
BEGIN:VEVENT
DTSTART;TZID=America/Los_Angeles:20231216T000000
DTEND;TZID=America/Los_Angeles:20231216T000000
DTSTAMP:20260422T100147
CREATED:20230510T035534Z
LAST-MODIFIED:20230510T035534Z
UID:4371-1702684800-1702684800@devlali.darshanacademy.org
SUMMARY:PTM (CLASS NURSERY TO X )
DESCRIPTION:
URL:https://devlali.darshanacademy.org/event/ptm-class-nursery-to-x-3/
CATEGORIES:PTM
END:VEVENT
BEGIN:VEVENT
DTSTART;TZID=America/Los_Angeles:20231215T000000
DTEND;TZID=America/Los_Angeles:20231215T000000
DTSTAMP:20260422T100147
CREATED:20230510T035534Z
LAST-MODIFIED:20230510T035534Z
UID:4369-1702598400-1702598400@devlali.darshanacademy.org
SUMMARY:INTERNAL WORKSHOP ON SPIRITUAL CURRICULUM FOR TEACHERS
DESCRIPTION:
URL:https://devlali.darshanacademy.org/event/internal-workshop-on-spiritual-curriculum-for-teachers/
CATEGORIES:PROFESSIONAL DEVELOPMENT PROGRAMME
END:VEVENT
BEGIN:VEVENT
DTSTART;TZID=America/Los_Angeles:20231215T000000
DTEND;TZID=America/Los_Angeles:20231215T000000
DTSTAMP:20260422T100147
CREATED:20230510T035533Z
LAST-MODIFIED:20230510T035533Z
UID:4368-1702598400-1702598400@devlali.darshanacademy.org
SUMMARY:BROWN DAY CELEBRATION (PRE-PRIMARY)
DESCRIPTION:
URL:https://devlali.darshanacademy.org/event/brown-day-celebration-pre-primary/
CATEGORIES:EVENT
END:VEVENT
BEGIN:VEVENT
DTSTART;TZID=America/Los_Angeles:20231209T000000
DTEND;TZID=America/Los_Angeles:20231209T000000
DTSTAMP:20260422T100147
CREATED:20230510T035533Z
LAST-MODIFIED:20230510T035533Z
UID:4367-1702080000-1702080000@devlali.darshanacademy.org
SUMMARY:WEBINAR/ WORKSHOP ON USE OF VIDEO EDITING TOOL FOR STUDENTS (CLASS VIII TO X)
DESCRIPTION:
URL:https://devlali.darshanacademy.org/event/webinar-workshop-on-use-of-video-editing-tool-for-students-class-viii-to-x/
CATEGORIES:PROFESSIONAL DEVELOPMENT PROGRAMME
END:VEVENT
BEGIN:VEVENT
DTSTART;TZID=America/Los_Angeles:20231209T000000
DTEND;TZID=America/Los_Angeles:20231209T000000
DTSTAMP:20260422T100147
CREATED:20230510T035525Z
LAST-MODIFIED:20230510T035525Z
UID:4366-1702080000-1702080000@devlali.darshanacademy.org
SUMMARY:CLUB ACTIVITY
DESCRIPTION:
URL:https://devlali.darshanacademy.org/event/club-activity-6/
CATEGORIES:EVENT
END:VEVENT
BEGIN:VEVENT
DTSTART;TZID=America/Los_Angeles:20231205T000000
DTEND;TZID=America/Los_Angeles:20231205T000000
DTSTAMP:20260422T100147
CREATED:20230510T035525Z
LAST-MODIFIED:20230510T035525Z
UID:4365-1701734400-1701734400@devlali.darshanacademy.org
SUMMARY:SNOW-MAN MAKING ACTIVITY (CLASS NURSERY TO II)
DESCRIPTION:
URL:https://devlali.darshanacademy.org/event/snow-man-making-activity-class-nursery-to-ii/
CATEGORIES:EVENT
END:VEVENT
BEGIN:VEVENT
DTSTART;TZID=America/Los_Angeles:20231204T000000
DTEND;TZID=America/Los_Angeles:20231213T000000
DTSTAMP:20260422T100147
CREATED:20230510T035525Z
LAST-MODIFIED:20230510T035525Z
UID:4364-1701648000-1702425600@devlali.darshanacademy.org
SUMMARY:1ST PRELIM (X)
DESCRIPTION:
URL:https://devlali.darshanacademy.org/event/1st-prelim-x/
CATEGORIES:EXAMINATION
END:VEVENT
BEGIN:VEVENT
DTSTART;TZID=America/Los_Angeles:20231202T000000
DTEND;TZID=America/Los_Angeles:20231209T000000
DTSTAMP:20260422T100147
CREATED:20230510T035525Z
LAST-MODIFIED:20230510T035525Z
UID:4363-1701475200-1702080000@devlali.darshanacademy.org
SUMMARY:ASSESSMENT- III (I-V) / PERIODIC TEST-II (VI-VIII)
DESCRIPTION:
URL:https://devlali.darshanacademy.org/event/assessment-iii-i-v-periodic-test-ii-vi-viii/
CATEGORIES:EXAMINATION
END:VEVENT
BEGIN:VEVENT
DTSTART;TZID=America/Los_Angeles:20231201T000000
DTEND;TZID=America/Los_Angeles:20231201T000000
DTSTAMP:20260422T100147
CREATED:20230510T035525Z
LAST-MODIFIED:20230510T035525Z
UID:4362-1701388800-1701388800@devlali.darshanacademy.org
SUMMARY:GRANDPARNETS DAY CELEBRATION (PRE-PRIMARY)
DESCRIPTION:
URL:https://devlali.darshanacademy.org/event/grandparnets-day-celebration-pre-primary/
CATEGORIES:EVENT
END:VEVENT
BEGIN:VEVENT
DTSTART;TZID=America/Los_Angeles:20231130T000000
DTEND;TZID=America/Los_Angeles:20231130T000000
DTSTAMP:20260422T100147
CREATED:20230510T035516Z
LAST-MODIFIED:20230510T035516Z
UID:4360-1701302400-1701302400@devlali.darshanacademy.org
SUMMARY:NATIONAL SPIRITUAL TALK FOR PARENTS
DESCRIPTION:
URL:https://devlali.darshanacademy.org/event/national-spiritual-talk-for-parents-2/
CATEGORIES:PROFESSIONAL DEVELOPMENT PROGRAMME
END:VEVENT
BEGIN:VEVENT
DTSTART;TZID=America/Los_Angeles:20231130T000000
DTEND;TZID=America/Los_Angeles:20231130T000000
DTSTAMP:20260422T100147
CREATED:20230510T035516Z
LAST-MODIFIED:20230510T035516Z
UID:4361-1701302400-1701302400@devlali.darshanacademy.org
SUMMARY:ORANGE DAY CELEBRATION (PRE-PRIMARY)
DESCRIPTION:
URL:https://devlali.darshanacademy.org/event/orange-day-celebration-pre-primary/
CATEGORIES:EVENT
END:VEVENT
BEGIN:VEVENT
DTSTART;TZID=America/Los_Angeles:20231129T000000
DTEND;TZID=America/Los_Angeles:20231129T000000
DTSTAMP:20260422T100147
CREATED:20230510T035516Z
LAST-MODIFIED:20230510T035516Z
UID:4359-1701216000-1701216000@devlali.darshanacademy.org
SUMMARY:POETRY FEST (CLASS I TO X)
DESCRIPTION:
URL:https://devlali.darshanacademy.org/event/poetry-fest-class-i-to-x/
CATEGORIES:EVENT
END:VEVENT
BEGIN:VEVENT
DTSTART;TZID=America/Los_Angeles:20231127T000000
DTEND;TZID=America/Los_Angeles:20231127T000000
DTSTAMP:20260422T100147
CREATED:20230510T035516Z
LAST-MODIFIED:20230510T035516Z
UID:4358-1701043200-1701043200@devlali.darshanacademy.org
SUMMARY:GURU NANAK JAYANTI
DESCRIPTION:
URL:https://devlali.darshanacademy.org/event/guru-nanak-jayanti/
CATEGORIES:HOLIDAY
END:VEVENT
BEGIN:VEVENT
DTSTART;TZID=America/Los_Angeles:20231125T000000
DTEND;TZID=America/Los_Angeles:20231125T000000
DTSTAMP:20260422T100147
CREATED:20230510T035516Z
LAST-MODIFIED:20230510T035516Z
UID:4357-1700870400-1700870400@devlali.darshanacademy.org
SUMMARY:FOURTH SATURDAY
DESCRIPTION:
URL:https://devlali.darshanacademy.org/event/fourth-saturday-6/
CATEGORIES:HOLIDAY
END:VEVENT
END:VCALENDAR