BEGIN:VCALENDAR
VERSION:2.0
PRODID:-//DA Devlali - ECPv6.0.12//NONSGML v1.0//EN
CALSCALE:GREGORIAN
METHOD:PUBLISH
X-WR-CALNAME:DA Devlali
X-ORIGINAL-URL:https://devlali.darshanacademy.org
X-WR-CALDESC:Events for DA Devlali
REFRESH-INTERVAL;VALUE=DURATION:PT1H
X-Robots-Tag:noindex
X-PUBLISHED-TTL:PT1H
BEGIN:VTIMEZONE
TZID:America/Los_Angeles
BEGIN:DAYLIGHT
TZOFFSETFROM:-0800
TZOFFSETTO:-0700
TZNAME:PDT
DTSTART:20230312T100000
END:DAYLIGHT
BEGIN:STANDARD
TZOFFSETFROM:-0700
TZOFFSETTO:-0800
TZNAME:PST
DTSTART:20231105T090000
END:STANDARD
END:VTIMEZONE
BEGIN:VEVENT
DTSTART;TZID=America/Los_Angeles:20231118T000000
DTEND;TZID=America/Los_Angeles:20231118T000000
DTSTAMP:20260422T150742
CREATED:20230510T035455Z
LAST-MODIFIED:20230510T035455Z
UID:4349-1700265600-1700265600@devlali.darshanacademy.org
SUMMARY:HINDI MONOLOGUE COMPETITION (CLASS IV & X)
DESCRIPTION:
URL:https://devlali.darshanacademy.org/event/hindi-monologue-competition-class-iv-x/
CATEGORIES:EVENT
END:VEVENT
BEGIN:VEVENT
DTSTART;TZID=America/Los_Angeles:20231118T000000
DTEND;TZID=America/Los_Angeles:20231118T000000
DTSTAMP:20260422T150742
CREATED:20230510T035455Z
LAST-MODIFIED:20230510T035455Z
UID:4350-1700265600-1700265600@devlali.darshanacademy.org
SUMMARY:ZONAL WORKSHOP FOR TEACHERS TEACHING  EVS AND MARATHI (CLASS III TO V)
DESCRIPTION:
URL:https://devlali.darshanacademy.org/event/zonal-workshop-for-teachers-teaching-evs-and-marathi-class-iii-to-v/
CATEGORIES:PROFESSIONAL DEVELOPMENT PROGRAMME
END:VEVENT
BEGIN:VEVENT
DTSTART;TZID=America/Los_Angeles:20231110T000000
DTEND;TZID=America/Los_Angeles:20231116T000000
DTSTAMP:20260422T150742
CREATED:20230510T035455Z
LAST-MODIFIED:20230510T035455Z
UID:4348-1699574400-1700092800@devlali.darshanacademy.org
SUMMARY:DIWALI BREAK
DESCRIPTION:
URL:https://devlali.darshanacademy.org/event/diwali-break/
CATEGORIES:HOLIDAY
END:VEVENT
BEGIN:VEVENT
DTSTART;TZID=America/Los_Angeles:20231109T000000
DTEND;TZID=America/Los_Angeles:20231109T000000
DTSTAMP:20260422T150742
CREATED:20230510T035455Z
LAST-MODIFIED:20230510T035455Z
UID:4347-1699488000-1699488000@devlali.darshanacademy.org
SUMMARY:CHILDREN'S DAY CELEBRATION
DESCRIPTION:
URL:https://devlali.darshanacademy.org/event/childrens-day-celebration/
CATEGORIES:EVENT
END:VEVENT
BEGIN:VEVENT
DTSTART;TZID=America/Los_Angeles:20231108T000000
DTEND;TZID=America/Los_Angeles:20231108T000000
DTSTAMP:20260422T150742
CREATED:20230510T035439Z
LAST-MODIFIED:20230510T035439Z
UID:4346-1699401600-1699401600@devlali.darshanacademy.org
SUMMARY:CLEAN UP ACTIVITY (CLASS I TO IV)
DESCRIPTION:
URL:https://devlali.darshanacademy.org/event/clean-up-activity-class-i-to-iv/
CATEGORIES:EVENT
END:VEVENT
BEGIN:VEVENT
DTSTART;TZID=America/Los_Angeles:20231104T000000
DTEND;TZID=America/Los_Angeles:20231104T000000
DTSTAMP:20260422T150742
CREATED:20230510T035439Z
LAST-MODIFIED:20230510T035439Z
UID:4344-1699056000-1699056000@devlali.darshanacademy.org
SUMMARY:DEBATE COMPETITION (CLASS VII TO X)
DESCRIPTION:
URL:https://devlali.darshanacademy.org/event/debate-competition-class-vii-to-x/
CATEGORIES:EVENT
END:VEVENT
BEGIN:VEVENT
DTSTART;TZID=America/Los_Angeles:20231104T000000
DTEND;TZID=America/Los_Angeles:20231104T000000
DTSTAMP:20260422T150742
CREATED:20230510T035439Z
LAST-MODIFIED:20230510T035439Z
UID:4345-1699056000-1699056000@devlali.darshanacademy.org
SUMMARY:ZONAL WORKSHOP FOR TEACHERS TEACHING HINDI (CLASS III TO V)
DESCRIPTION:
URL:https://devlali.darshanacademy.org/event/zonal-workshop-for-teachers-teaching-hindi-class-iii-to-v/
CATEGORIES:PROFESSIONAL DEVELOPMENT PROGRAMME
END:VEVENT
BEGIN:VEVENT
DTSTART;TZID=America/Los_Angeles:20231103T000000
DTEND;TZID=America/Los_Angeles:20231103T000000
DTSTAMP:20260422T150742
CREATED:20230510T035439Z
LAST-MODIFIED:20230510T035439Z
UID:4343-1698969600-1698969600@devlali.darshanacademy.org
SUMMARY:VISIT TO RAILWAY STATION (CLASS NURSERY TO II)
DESCRIPTION:
URL:https://devlali.darshanacademy.org/event/visit-to-railway-station-class-nursery-to-ii/
CATEGORIES:EVENT
END:VEVENT
BEGIN:VEVENT
DTSTART;TZID=America/Los_Angeles:20231102T000000
DTEND;TZID=America/Los_Angeles:20231102T000000
DTSTAMP:20260422T150742
CREATED:20230510T035439Z
LAST-MODIFIED:20230510T035439Z
UID:4342-1698883200-1698883200@devlali.darshanacademy.org
SUMMARY:BEST OUT OF WASTE ACTIVITY (CLASS I TO X)
DESCRIPTION:
URL:https://devlali.darshanacademy.org/event/best-out-of-waste-activity-class-i-to-x/
CATEGORIES:EVENT
END:VEVENT
BEGIN:VEVENT
DTSTART;TZID=America/Los_Angeles:20231101T000000
DTEND;TZID=America/Los_Angeles:20231101T000000
DTSTAMP:20260422T150742
CREATED:20230510T035416Z
LAST-MODIFIED:20230510T035416Z
UID:4341-1698796800-1698796800@devlali.darshanacademy.org
SUMMARY:CARD MAKING ACTIVITY (CLASS III TO V)
DESCRIPTION:
URL:https://devlali.darshanacademy.org/event/card-making-activity-class-iii-to-v/
CATEGORIES:EVENT
END:VEVENT
BEGIN:VEVENT
DTSTART;TZID=America/Los_Angeles:20231031T000000
DTEND;TZID=America/Los_Angeles:20231031T000000
DTSTAMP:20260422T150742
CREATED:20230510T035416Z
LAST-MODIFIED:20230510T035416Z
UID:4340-1698710400-1698710400@devlali.darshanacademy.org
SUMMARY:ENGLISH POEM RECITATION COMPETITION (CLASS I TO V)
DESCRIPTION:
URL:https://devlali.darshanacademy.org/event/english-poem-recitation-competition-class-i-to-v/
CATEGORIES:EVENT
END:VEVENT
BEGIN:VEVENT
DTSTART;TZID=America/Los_Angeles:20231030T000000
DTEND;TZID=America/Los_Angeles:20231108T000000
DTSTAMP:20260422T150742
CREATED:20230510T035416Z
LAST-MODIFIED:20230510T035416Z
UID:4339-1698624000-1699401600@devlali.darshanacademy.org
SUMMARY:PERIODIC TEST - II (IX-X)
DESCRIPTION:
URL:https://devlali.darshanacademy.org/event/periodic-test-ii-ix-x/
CATEGORIES:EXAMINATION
END:VEVENT
BEGIN:VEVENT
DTSTART;TZID=America/Los_Angeles:20231030T000000
DTEND;TZID=America/Los_Angeles:20231030T000000
DTSTAMP:20260422T150742
CREATED:20230510T035416Z
LAST-MODIFIED:20230510T035416Z
UID:4338-1698624000-1698624000@devlali.darshanacademy.org
SUMMARY:DIYA MAKING/LAMPMAKING/ DIYA COLOURING ACTIVITY (CLASS NURSERY TO X)
DESCRIPTION:
URL:https://devlali.darshanacademy.org/event/diya-making-lampmaking-diya-colouring-activity-class-nursery-to-x/
CATEGORIES:EVENT
END:VEVENT
BEGIN:VEVENT
DTSTART;TZID=America/Los_Angeles:20231028T000000
DTEND;TZID=America/Los_Angeles:20231028T000000
DTSTAMP:20260422T150742
CREATED:20230510T035415Z
LAST-MODIFIED:20230510T035415Z
UID:4337-1698451200-1698451200@devlali.darshanacademy.org
SUMMARY:FOURTH SATURDAY
DESCRIPTION:
URL:https://devlali.darshanacademy.org/event/fourth-saturday-5/
CATEGORIES:HOLIDAY
END:VEVENT
BEGIN:VEVENT
DTSTART;TZID=America/Los_Angeles:20231027T000000
DTEND;TZID=America/Los_Angeles:20231027T000000
DTSTAMP:20260422T150742
CREATED:20230510T035407Z
LAST-MODIFIED:20230510T035407Z
UID:4336-1698364800-1698364800@devlali.darshanacademy.org
SUMMARY:NATIONAL SPIRITUAL TALK FOR TEACHERS
DESCRIPTION:
URL:https://devlali.darshanacademy.org/event/national-spiritual-talk-for-teachers/
CATEGORIES:PROFESSIONAL DEVELOPMENT PROGRAMME
END:VEVENT
BEGIN:VEVENT
DTSTART;TZID=America/Los_Angeles:20231027T000000
DTEND;TZID=America/Los_Angeles:20231027T000000
DTSTAMP:20260422T150742
CREATED:20230510T035407Z
LAST-MODIFIED:20230510T035407Z
UID:4335-1698364800-1698364800@devlali.darshanacademy.org
SUMMARY:NECKLACE MAKING/ FILL BEADS ACTIVITY ( PRE-PRIMARY)
DESCRIPTION:
URL:https://devlali.darshanacademy.org/event/necklace-making-fill-beads-activity-pre-primary/
CATEGORIES:EVENT
END:VEVENT
BEGIN:VEVENT
DTSTART;TZID=America/Los_Angeles:20231026T000000
DTEND;TZID=America/Los_Angeles:20231026T000000
DTSTAMP:20260422T150742
CREATED:20230510T035407Z
LAST-MODIFIED:20230510T035407Z
UID:4334-1698278400-1698278400@devlali.darshanacademy.org
SUMMARY:SACK RACE ACTIVITY (CLASS PRE-PRIMARY)
DESCRIPTION:
URL:https://devlali.darshanacademy.org/event/sack-race-activity-class-pre-primary/
CATEGORIES:EVENT
END:VEVENT
BEGIN:VEVENT
DTSTART;TZID=America/Los_Angeles:20231025T000000
DTEND;TZID=America/Los_Angeles:20231025T000000
DTSTAMP:20260422T150742
CREATED:20230510T035407Z
LAST-MODIFIED:20230510T035407Z
UID:4333-1698192000-1698192000@devlali.darshanacademy.org
SUMMARY:VISIT TO LIBRARY (PRE-PRIMARY TO II)
DESCRIPTION:
URL:https://devlali.darshanacademy.org/event/visit-to-library-pre-primary-to-ii/
CATEGORIES:EVENT
END:VEVENT
BEGIN:VEVENT
DTSTART;TZID=America/Los_Angeles:20231024T000000
DTEND;TZID=America/Los_Angeles:20231024T000000
DTSTAMP:20260422T150742
CREATED:20230510T035407Z
LAST-MODIFIED:20230510T035407Z
UID:4332-1698105600-1698105600@devlali.darshanacademy.org
SUMMARY:INTERHOUSE CRICKET COMEPTITION (CLASS VI TO X)
DESCRIPTION:
URL:https://devlali.darshanacademy.org/event/interhouse-cricket-comeptition-class-vi-to-x/
CATEGORIES:EVENT
END:VEVENT
BEGIN:VEVENT
DTSTART;TZID=America/Los_Angeles:20231023T000000
DTEND;TZID=America/Los_Angeles:20231023T000000
DTSTAMP:20260422T150742
CREATED:20230510T035353Z
LAST-MODIFIED:20230510T035353Z
UID:4331-1698019200-1698019200@devlali.darshanacademy.org
SUMMARY:VIJAYA DASHAMI
DESCRIPTION:
URL:https://devlali.darshanacademy.org/event/vijaya-dashami/
CATEGORIES:HOLIDAY
END:VEVENT
BEGIN:VEVENT
DTSTART;TZID=America/Los_Angeles:20231021T000000
DTEND;TZID=America/Los_Angeles:20231021T000000
DTSTAMP:20260422T150742
CREATED:20230510T035353Z
LAST-MODIFIED:20230510T035353Z
UID:4329-1697846400-1697846400@devlali.darshanacademy.org
SUMMARY:SPELL BEE ROUND-III (CLASS I TO X) / CLUB ACTIVITY
DESCRIPTION:
URL:https://devlali.darshanacademy.org/event/spell-bee-round-iii-class-i-to-x-club-activity/
CATEGORIES:EVENT
END:VEVENT
BEGIN:VEVENT
DTSTART;TZID=America/Los_Angeles:20231021T000000
DTEND;TZID=America/Los_Angeles:20231021T000000
DTSTAMP:20260422T150742
CREATED:20230510T035353Z
LAST-MODIFIED:20230510T035353Z
UID:4330-1697846400-1697846400@devlali.darshanacademy.org
SUMMARY:WEBINAR/ WORKSHOP ON DIGITAL WRITING SKILL FOR STUDENTS (CLASS IX & X)
DESCRIPTION:
URL:https://devlali.darshanacademy.org/event/webinar-workshop-on-digital-writing-skill-for-students-class-ix-x/
CATEGORIES:PROFESSIONAL DEVELOPMENT PROGRAMME
END:VEVENT
BEGIN:VEVENT
DTSTART;TZID=America/Los_Angeles:20231020T000000
DTEND;TZID=America/Los_Angeles:20231020T000000
DTSTAMP:20260422T150742
CREATED:20230510T035353Z
LAST-MODIFIED:20230510T035353Z
UID:4328-1697760000-1697760000@devlali.darshanacademy.org
SUMMARY:NAVRATRI CELEBRATION (PRE-PRIMARY TO X)
DESCRIPTION:
URL:https://devlali.darshanacademy.org/event/navratri-celebration-pre-primary-to-x/
CATEGORIES:EVENT
END:VEVENT
BEGIN:VEVENT
DTSTART;TZID=America/Los_Angeles:20231019T000000
DTEND;TZID=America/Los_Angeles:20231019T000000
DTSTAMP:20260422T150742
CREATED:20230510T035353Z
LAST-MODIFIED:20230510T035353Z
UID:4327-1697673600-1697673600@devlali.darshanacademy.org
SUMMARY:INTERNAL WORKSHOP ON USING STORY TELLING DOING IN LEARNING
DESCRIPTION:
URL:https://devlali.darshanacademy.org/event/internal-workshop-on-using-story-telling-doing-in-learning/
CATEGORIES:PROFESSIONAL DEVELOPMENT PROGRAMME
END:VEVENT
BEGIN:VEVENT
DTSTART;TZID=America/Los_Angeles:20231017T000000
DTEND;TZID=America/Los_Angeles:20231017T000000
DTSTAMP:20260422T150742
CREATED:20230510T035340Z
LAST-MODIFIED:20230510T035340Z
UID:4326-1697500800-1697500800@devlali.darshanacademy.org
SUMMARY:ESSAY WRITING COMPETITION (CLASS III TO VIII)
DESCRIPTION:
URL:https://devlali.darshanacademy.org/event/essay-writing-competition-class-iii-to-viii/
CATEGORIES:EVENT
END:VEVENT
BEGIN:VEVENT
DTSTART;TZID=America/Los_Angeles:20231016T000000
DTEND;TZID=America/Los_Angeles:20231016T000000
DTSTAMP:20260422T150742
CREATED:20230510T035340Z
LAST-MODIFIED:20230510T035340Z
UID:4325-1697414400-1697414400@devlali.darshanacademy.org
SUMMARY:INTERHOUSE YOGA COMPETITION
DESCRIPTION:
URL:https://devlali.darshanacademy.org/event/interhouse-yoga-competition/
CATEGORIES:EVENT
END:VEVENT
BEGIN:VEVENT
DTSTART;TZID=America/Los_Angeles:20231014T000000
DTEND;TZID=America/Los_Angeles:20231014T000000
DTSTAMP:20260422T150742
CREATED:20230510T035339Z
LAST-MODIFIED:20230510T035339Z
UID:4323-1697241600-1697241600@devlali.darshanacademy.org
SUMMARY:ZONAL WORKSHOP FOR TEACHERS TEACHING ENGLISH (CLASS III TO V)
DESCRIPTION:
URL:https://devlali.darshanacademy.org/event/zonal-workshop-for-teachers-teaching-english-class-iii-to-v/
CATEGORIES:PROFESSIONAL DEVELOPMENT PROGRAMME
END:VEVENT
BEGIN:VEVENT
DTSTART;TZID=America/Los_Angeles:20231014T000000
DTEND;TZID=America/Los_Angeles:20231014T000000
DTSTAMP:20260422T150742
CREATED:20230510T035339Z
LAST-MODIFIED:20230510T035339Z
UID:4324-1697241600-1697241600@devlali.darshanacademy.org
SUMMARY:GHAT STHAPNA
DESCRIPTION:
URL:https://devlali.darshanacademy.org/event/ghat-sthapna/
CATEGORIES:HOLIDAY
END:VEVENT
BEGIN:VEVENT
DTSTART;TZID=America/Los_Angeles:20231013T000000
DTEND;TZID=America/Los_Angeles:20231013T000000
DTSTAMP:20260422T150742
CREATED:20230510T035339Z
LAST-MODIFIED:20230510T035339Z
UID:4322-1697155200-1697155200@devlali.darshanacademy.org
SUMMARY:INTERNAL SPIRITUAL TALK FOR TEACHERS
DESCRIPTION:
URL:https://devlali.darshanacademy.org/event/internal-spiritual-talk-for-teachers/
CATEGORIES:PROFESSIONAL DEVELOPMENT PROGRAMME
END:VEVENT
BEGIN:VEVENT
DTSTART;TZID=America/Los_Angeles:20231013T000000
DTEND;TZID=America/Los_Angeles:20231013T000000
DTSTAMP:20260422T150742
CREATED:20230510T035331Z
LAST-MODIFIED:20230510T035331Z
UID:4321-1697155200-1697155200@devlali.darshanacademy.org
SUMMARY:NUMBER DAY (PRE-PRIMARY)
DESCRIPTION:
URL:https://devlali.darshanacademy.org/event/number-day-pre-primary/
CATEGORIES:EVENT
END:VEVENT
END:VCALENDAR