BEGIN:VCALENDAR
VERSION:2.0
PRODID:-//DA Devlali - ECPv6.0.12//NONSGML v1.0//EN
CALSCALE:GREGORIAN
METHOD:PUBLISH
X-WR-CALNAME:DA Devlali
X-ORIGINAL-URL:https://devlali.darshanacademy.org
X-WR-CALDESC:Events for DA Devlali
REFRESH-INTERVAL;VALUE=DURATION:PT1H
X-Robots-Tag:noindex
X-PUBLISHED-TTL:PT1H
BEGIN:VTIMEZONE
TZID:America/Los_Angeles
BEGIN:DAYLIGHT
TZOFFSETFROM:-0800
TZOFFSETTO:-0700
TZNAME:PDT
DTSTART:20230312T100000
END:DAYLIGHT
BEGIN:STANDARD
TZOFFSETFROM:-0700
TZOFFSETTO:-0800
TZNAME:PST
DTSTART:20231105T090000
END:STANDARD
END:VTIMEZONE
BEGIN:VEVENT
DTSTART;TZID=America/Los_Angeles:20231017T000000
DTEND;TZID=America/Los_Angeles:20231017T000000
DTSTAMP:20260422T182323
CREATED:20230510T035340Z
LAST-MODIFIED:20230510T035340Z
UID:4326-1697500800-1697500800@devlali.darshanacademy.org
SUMMARY:ESSAY WRITING COMPETITION (CLASS III TO VIII)
DESCRIPTION:
URL:https://devlali.darshanacademy.org/event/essay-writing-competition-class-iii-to-viii/
CATEGORIES:EVENT
END:VEVENT
BEGIN:VEVENT
DTSTART;TZID=America/Los_Angeles:20231016T000000
DTEND;TZID=America/Los_Angeles:20231016T000000
DTSTAMP:20260422T182323
CREATED:20230510T035340Z
LAST-MODIFIED:20230510T035340Z
UID:4325-1697414400-1697414400@devlali.darshanacademy.org
SUMMARY:INTERHOUSE YOGA COMPETITION
DESCRIPTION:
URL:https://devlali.darshanacademy.org/event/interhouse-yoga-competition/
CATEGORIES:EVENT
END:VEVENT
BEGIN:VEVENT
DTSTART;TZID=America/Los_Angeles:20231014T000000
DTEND;TZID=America/Los_Angeles:20231014T000000
DTSTAMP:20260422T182323
CREATED:20230510T035339Z
LAST-MODIFIED:20230510T035339Z
UID:4323-1697241600-1697241600@devlali.darshanacademy.org
SUMMARY:ZONAL WORKSHOP FOR TEACHERS TEACHING ENGLISH (CLASS III TO V)
DESCRIPTION:
URL:https://devlali.darshanacademy.org/event/zonal-workshop-for-teachers-teaching-english-class-iii-to-v/
CATEGORIES:PROFESSIONAL DEVELOPMENT PROGRAMME
END:VEVENT
BEGIN:VEVENT
DTSTART;TZID=America/Los_Angeles:20231014T000000
DTEND;TZID=America/Los_Angeles:20231014T000000
DTSTAMP:20260422T182323
CREATED:20230510T035339Z
LAST-MODIFIED:20230510T035339Z
UID:4324-1697241600-1697241600@devlali.darshanacademy.org
SUMMARY:GHAT STHAPNA
DESCRIPTION:
URL:https://devlali.darshanacademy.org/event/ghat-sthapna/
CATEGORIES:HOLIDAY
END:VEVENT
BEGIN:VEVENT
DTSTART;TZID=America/Los_Angeles:20231013T000000
DTEND;TZID=America/Los_Angeles:20231013T000000
DTSTAMP:20260422T182323
CREATED:20230510T035339Z
LAST-MODIFIED:20230510T035339Z
UID:4322-1697155200-1697155200@devlali.darshanacademy.org
SUMMARY:INTERNAL SPIRITUAL TALK FOR TEACHERS
DESCRIPTION:
URL:https://devlali.darshanacademy.org/event/internal-spiritual-talk-for-teachers/
CATEGORIES:PROFESSIONAL DEVELOPMENT PROGRAMME
END:VEVENT
BEGIN:VEVENT
DTSTART;TZID=America/Los_Angeles:20231013T000000
DTEND;TZID=America/Los_Angeles:20231013T000000
DTSTAMP:20260422T182323
CREATED:20230510T035331Z
LAST-MODIFIED:20230510T035331Z
UID:4321-1697155200-1697155200@devlali.darshanacademy.org
SUMMARY:NUMBER DAY (PRE-PRIMARY)
DESCRIPTION:
URL:https://devlali.darshanacademy.org/event/number-day-pre-primary/
CATEGORIES:EVENT
END:VEVENT
BEGIN:VEVENT
DTSTART;TZID=America/Los_Angeles:20231012T000000
DTEND;TZID=America/Los_Angeles:20231012T000000
DTSTAMP:20260422T182323
CREATED:20230510T035331Z
LAST-MODIFIED:20230510T035331Z
UID:4320-1697068800-1697068800@devlali.darshanacademy.org
SUMMARY:MASTERCHEF COMPETITION (CLASS III TO X)
DESCRIPTION:
URL:https://devlali.darshanacademy.org/event/masterchef-competition-class-iii-to-x/
CATEGORIES:EVENT
END:VEVENT
BEGIN:VEVENT
DTSTART;TZID=America/Los_Angeles:20231011T000000
DTEND;TZID=America/Los_Angeles:20231011T000000
DTSTAMP:20260422T182323
CREATED:20230510T035330Z
LAST-MODIFIED:20230510T035330Z
UID:4319-1696982400-1696982400@devlali.darshanacademy.org
SUMMARY:BREAD & BUTTER ACTIVITY (CLASS NURSERY TO II)
DESCRIPTION:
URL:https://devlali.darshanacademy.org/event/bread-butter-activity-class-nursery-to-ii/
CATEGORIES:EVENT
END:VEVENT
BEGIN:VEVENT
DTSTART;TZID=America/Los_Angeles:20231009T000000
DTEND;TZID=America/Los_Angeles:20231009T000000
DTSTAMP:20260422T182323
CREATED:20230510T035330Z
LAST-MODIFIED:20230510T035330Z
UID:4318-1696809600-1696809600@devlali.darshanacademy.org
SUMMARY:PAINTING COMPETITION (CLASS III TO VIII)
DESCRIPTION:
URL:https://devlali.darshanacademy.org/event/painting-competition-class-iii-to-viii/
CATEGORIES:EVENT
END:VEVENT
BEGIN:VEVENT
DTSTART;TZID=America/Los_Angeles:20231007T000000
DTEND;TZID=America/Los_Angeles:20231007T000000
DTSTAMP:20260422T182323
CREATED:20230510T035330Z
LAST-MODIFIED:20230510T035330Z
UID:4317-1696636800-1696636800@devlali.darshanacademy.org
SUMMARY:INTERHOUSE ATHLETICS COMPETITION (CLASS III TO X) / CLUB ACTIVITY
DESCRIPTION:
URL:https://devlali.darshanacademy.org/event/interhouse-athletics-competition-class-iii-to-x-club-activity/
CATEGORIES:EVENT
END:VEVENT
BEGIN:VEVENT
DTSTART;TZID=America/Los_Angeles:20231006T000000
DTEND;TZID=America/Los_Angeles:20231006T000000
DTSTAMP:20260422T182323
CREATED:20230510T035253Z
LAST-MODIFIED:20230510T035253Z
UID:4316-1696550400-1696550400@devlali.darshanacademy.org
SUMMARY:GREEN DAY CELEBRATION (PRE-PRIMARY)
DESCRIPTION:
URL:https://devlali.darshanacademy.org/event/green-day-celebration-pre-primary/
CATEGORIES:EVENT
END:VEVENT
BEGIN:VEVENT
DTSTART;TZID=America/Los_Angeles:20231005T000000
DTEND;TZID=America/Los_Angeles:20231005T000000
DTSTAMP:20260422T182323
CREATED:20230510T035252Z
LAST-MODIFIED:20230510T035252Z
UID:4315-1696464000-1696464000@devlali.darshanacademy.org
SUMMARY:INTERCLASS ATHLETICS COMPETITION (CLASS III TO X)
DESCRIPTION:
URL:https://devlali.darshanacademy.org/event/interclass-athletics-competition-class-iii-to-x/
CATEGORIES:EVENT
END:VEVENT
BEGIN:VEVENT
DTSTART;TZID=America/Los_Angeles:20231004T000000
DTEND;TZID=America/Los_Angeles:20231004T000000
DTSTAMP:20260422T182323
CREATED:20230510T035252Z
LAST-MODIFIED:20230510T035252Z
UID:4314-1696377600-1696377600@devlali.darshanacademy.org
SUMMARY:STORY TELLING COMPETITION WITH PUPPETS (CLASS III TO V)
DESCRIPTION:
URL:https://devlali.darshanacademy.org/event/story-telling-competition-with-puppets-class-iii-to-v/
CATEGORIES:EVENT
END:VEVENT
BEGIN:VEVENT
DTSTART;TZID=America/Los_Angeles:20231002T000000
DTEND;TZID=America/Los_Angeles:20231002T000000
DTSTAMP:20260422T182323
CREATED:20230510T035252Z
LAST-MODIFIED:20230510T035252Z
UID:4313-1696204800-1696204800@devlali.darshanacademy.org
SUMMARY:GANDHI JAYANTI
DESCRIPTION:
URL:https://devlali.darshanacademy.org/event/gandhi-jayanti/
CATEGORIES:HOLIDAY
END:VEVENT
BEGIN:VEVENT
DTSTART;TZID=America/Los_Angeles:20230930T000000
DTEND;TZID=America/Los_Angeles:20230930T000000
DTSTAMP:20260422T182323
CREATED:20230510T035252Z
LAST-MODIFIED:20230510T035252Z
UID:4312-1696032000-1696032000@devlali.darshanacademy.org
SUMMARY:PTM (CLASS NURSERY TO X)
DESCRIPTION:
URL:https://devlali.darshanacademy.org/event/ptm-class-nursery-to-x-2/
CATEGORIES:PTM
END:VEVENT
BEGIN:VEVENT
DTSTART;TZID=America/Los_Angeles:20230929T000000
DTEND;TZID=America/Los_Angeles:20230929T000000
DTSTAMP:20260422T182323
CREATED:20230510T035236Z
LAST-MODIFIED:20230510T035236Z
UID:4311-1695945600-1695945600@devlali.darshanacademy.org
SUMMARY:MARKET DAY (PRE-PRIMARY)
DESCRIPTION:
URL:https://devlali.darshanacademy.org/event/market-day-pre-primary/
CATEGORIES:EVENT
END:VEVENT
BEGIN:VEVENT
DTSTART;TZID=America/Los_Angeles:20230928T000000
DTEND;TZID=America/Los_Angeles:20230928T000000
DTSTAMP:20260422T182323
CREATED:20230510T035236Z
LAST-MODIFIED:20230510T035236Z
UID:4310-1695859200-1695859200@devlali.darshanacademy.org
SUMMARY:ANANT CHATURTHI / GANESH VISARJAN
DESCRIPTION:
URL:https://devlali.darshanacademy.org/event/anant-chaturthi-ganesh-visarjan/
CATEGORIES:HOLIDAY
END:VEVENT
BEGIN:VEVENT
DTSTART;TZID=America/Los_Angeles:20230927T000000
DTEND;TZID=America/Los_Angeles:20230927T000000
DTSTAMP:20260422T182323
CREATED:20230510T035236Z
LAST-MODIFIED:20230510T035236Z
UID:4309-1695772800-1695772800@devlali.darshanacademy.org
SUMMARY:OCCUPATION DAY (CLASS PRE-PRIMARY TO II)
DESCRIPTION:
URL:https://devlali.darshanacademy.org/event/occupation-day-class-pre-primary-to-ii/
CATEGORIES:EVENT
END:VEVENT
BEGIN:VEVENT
DTSTART;TZID=America/Los_Angeles:20230926T000000
DTEND;TZID=America/Los_Angeles:20230926T000000
DTSTAMP:20260422T182323
CREATED:20230510T035236Z
LAST-MODIFIED:20230510T035236Z
UID:4308-1695686400-1695686400@devlali.darshanacademy.org
SUMMARY:INTERHOUSE SKIPPING COMPETITION (CLASS III TO X)
DESCRIPTION:
URL:https://devlali.darshanacademy.org/event/interhouse-skipping-competition-class-iii-to-x/
CATEGORIES:EVENT
END:VEVENT
BEGIN:VEVENT
DTSTART;TZID=America/Los_Angeles:20230923T000000
DTEND;TZID=America/Los_Angeles:20230923T000000
DTSTAMP:20260422T182323
CREATED:20230510T035235Z
LAST-MODIFIED:20230510T035235Z
UID:4307-1695427200-1695427200@devlali.darshanacademy.org
SUMMARY:FOURTH SATURDAY
DESCRIPTION:
URL:https://devlali.darshanacademy.org/event/fourth-saturday-4/
CATEGORIES:HOLIDAY
END:VEVENT
BEGIN:VEVENT
DTSTART;TZID=America/Los_Angeles:20230922T000000
DTEND;TZID=America/Los_Angeles:20230922T000000
DTSTAMP:20260422T182323
CREATED:20230510T035215Z
LAST-MODIFIED:20230510T035215Z
UID:4306-1695340800-1695340800@devlali.darshanacademy.org
SUMMARY:AKSHAR DIN (PRE-PRIMARY) USING EXPERIMENTAL AND INTERGRATED DESIGN (WORKSHOP)
DESCRIPTION:
URL:https://devlali.darshanacademy.org/event/akshar-din-pre-primary-using-experimental-and-intergrated-design-workshop/
CATEGORIES:PROFESSIONAL DEVELOPMENT PROGRAMME
END:VEVENT
BEGIN:VEVENT
DTSTART;TZID=America/Los_Angeles:20230920T000000
DTEND;TZID=America/Los_Angeles:20230920T000000
DTSTAMP:20260422T182323
CREATED:20230510T035215Z
LAST-MODIFIED:20230510T035215Z
UID:4305-1695168000-1695168000@devlali.darshanacademy.org
SUMMARY:SANT RAJINDER SINGHJI MAHARAJ BIRTHDAY
DESCRIPTION:
URL:https://devlali.darshanacademy.org/event/sant-rajinder-singhji-maharaj-birthday/
CATEGORIES:HOLIDAY
END:VEVENT
BEGIN:VEVENT
DTSTART;TZID=America/Los_Angeles:20230919T000000
DTEND;TZID=America/Los_Angeles:20230919T000000
DTSTAMP:20260422T182323
CREATED:20230510T035215Z
LAST-MODIFIED:20230510T035215Z
UID:4304-1695081600-1695081600@devlali.darshanacademy.org
SUMMARY:GANESH CHATURTHI
DESCRIPTION:
URL:https://devlali.darshanacademy.org/event/ganesh-chaturthi/
CATEGORIES:HOLIDAY
END:VEVENT
BEGIN:VEVENT
DTSTART;TZID=America/Los_Angeles:20230918T000000
DTEND;TZID=America/Los_Angeles:20230918T000000
DTSTAMP:20260422T182323
CREATED:20230510T035215Z
LAST-MODIFIED:20230510T035215Z
UID:4303-1694995200-1694995200@devlali.darshanacademy.org
SUMMARY:QUIZ COMPETITION (CLASS VI TO X)
DESCRIPTION:
URL:https://devlali.darshanacademy.org/event/quiz-competition-class-vi-to-x/
CATEGORIES:EVENT
END:VEVENT
BEGIN:VEVENT
DTSTART;TZID=America/Los_Angeles:20230916T000000
DTEND;TZID=America/Los_Angeles:20230916T000000
DTSTAMP:20260422T182323
CREATED:20230510T035215Z
LAST-MODIFIED:20230510T035215Z
UID:4302-1694822400-1694822400@devlali.darshanacademy.org
SUMMARY:INTERHOUSE BADMINTON COMPETITION (CLASS V TO X)/ CLUB ACTIVITY
DESCRIPTION:
URL:https://devlali.darshanacademy.org/event/interhouse-badminton-competition-class-v-to-x-club-activity/
CATEGORIES:EVENT
END:VEVENT
BEGIN:VEVENT
DTSTART;TZID=America/Los_Angeles:20230915T000000
DTEND;TZID=America/Los_Angeles:20230919T000000
DTSTAMP:20260422T182323
CREATED:20230510T035207Z
LAST-MODIFIED:20230510T035207Z
UID:4300-1694736000-1695081600@devlali.darshanacademy.org
SUMMARY:RAJINDER WEEK OF MEDITATION AND PEACE
DESCRIPTION:
URL:https://devlali.darshanacademy.org/event/rajinder-week-of-meditation-and-peace/
CATEGORIES:EVENT
END:VEVENT
BEGIN:VEVENT
DTSTART;TZID=America/Los_Angeles:20230915T000000
DTEND;TZID=America/Los_Angeles:20230915T000000
DTSTAMP:20260422T182323
CREATED:20230510T035207Z
LAST-MODIFIED:20230510T035207Z
UID:4301-1694736000-1694736000@devlali.darshanacademy.org
SUMMARY:FILL THE BUCKET ACTIVITY (PRE-PRIMARY)
DESCRIPTION:
URL:https://devlali.darshanacademy.org/event/fill-the-bucket-activity-pre-primary/
CATEGORIES:EVENT
END:VEVENT
BEGIN:VEVENT
DTSTART;TZID=America/Los_Angeles:20230914T000000
DTEND;TZID=America/Los_Angeles:20230914T000000
DTSTAMP:20260422T182323
CREATED:20230510T035206Z
LAST-MODIFIED:20230510T035206Z
UID:4299-1694649600-1694649600@devlali.darshanacademy.org
SUMMARY:SANT DARSHAN SINGHJI MAHARAJ BIRTHDAY
DESCRIPTION:
URL:https://devlali.darshanacademy.org/event/sant-darshan-singhji-maharaj-birthday/
CATEGORIES:HOLIDAY
END:VEVENT
BEGIN:VEVENT
DTSTART;TZID=America/Los_Angeles:20230911T000000
DTEND;TZID=America/Los_Angeles:20230911T000000
DTSTAMP:20260422T182323
CREATED:20230510T035206Z
LAST-MODIFIED:20230510T035206Z
UID:4298-1694390400-1694390400@devlali.darshanacademy.org
SUMMARY:INTERHOUSE BADMINTON COMPETITION (CLASS V TO X)
DESCRIPTION:
URL:https://devlali.darshanacademy.org/event/interhouse-badminton-competition-class-v-to-x/
CATEGORIES:EVENT
END:VEVENT
BEGIN:VEVENT
DTSTART;TZID=America/Los_Angeles:20230909T000000
DTEND;TZID=America/Los_Angeles:20230922T000000
DTSTAMP:20260422T182323
CREATED:20230510T035206Z
LAST-MODIFIED:20230510T035206Z
UID:4297-1694217600-1695340800@devlali.darshanacademy.org
SUMMARY:ASSESSMENT - II (I-V) / TERM-I (VI-VIII)
DESCRIPTION:
URL:https://devlali.darshanacademy.org/event/assessment-ii-i-v-term-i-vi-viii/
CATEGORIES:EXAMINATION
END:VEVENT
END:VCALENDAR